BEGIN:VCALENDAR
VERSION:2.0
PRODID:icalendar-ruby
CALSCALE:GREGORIAN
METHOD:PUBLISH
BEGIN:VEVENT
DTSTAMP:20260425T202212Z
UID:3a5e0f87-275d-4ffe-82de-83ec11bf222a
DTSTART;VALUE=DATE:20150829
DTEND;VALUE=DATE:20150829
DESCRIPTION:Rum River BMX
LOCATION:Isanti Parkway Northwest  Isanti MN 55040 USA
SUMMARY:State Pre-Race Double
URL:/site/bmx_races/273140
END:VEVENT
END:VCALENDAR
