BEGIN:VCALENDAR
VERSION:2.0
PRODID:icalendar-ruby
CALSCALE:GREGORIAN
METHOD:PUBLISH
BEGIN:VEVENT
DTSTAMP:20260424T104408Z
UID:baa23572-dd12-4e0f-96d4-e9eef4ca8dee
DTSTART;VALUE=DATE:20151122
DTEND;VALUE=DATE:20151122
DESCRIPTION:Noonday BMX
LOCATION:547 Shallowford Rd Ne  Marietta GA 30144 USA
SUMMARY:Earned Double
URL:/site/bmx_races/273014
END:VEVENT
END:VCALENDAR
