BEGIN:VCALENDAR
VERSION:2.0
PRODID:icalendar-ruby
CALSCALE:GREGORIAN
METHOD:PUBLISH
BEGIN:VEVENT
DTSTAMP:20260424T190031Z
UID:e7dff5a9-2142-4ec5-82d0-1f4e36386d93
DTSTART;VALUE=DATE:20150822
DTEND;VALUE=DATE:20150822
DESCRIPTION:Woodland BMX
LOCATION:880 Victory Hwy  West Greenwich RI 02817 USA
SUMMARY:State Pre-Race Double
URL:/site/bmx_races/273011
END:VEVENT
END:VCALENDAR
