BEGIN:VCALENDAR
VERSION:2.0
PRODID:icalendar-ruby
CALSCALE:GREGORIAN
METHOD:PUBLISH
BEGIN:VEVENT
DTSTAMP:20260424T105815Z
UID:6490ef80-215a-4966-89c1-a62cb71c3942
DTSTART;VALUE=DATE:20150429
DTEND;VALUE=DATE:20150429
DESCRIPTION:Cross Creek BMX
LOCATION:8115 Parkglen Dr.  Fountain CO 80817 USA
SUMMARY:Local Race Single
URL:/site/bmx_races/272743
END:VEVENT
END:VCALENDAR
