BEGIN:VCALENDAR
VERSION:2.0
PRODID:icalendar-ruby
CALSCALE:GREGORIAN
METHOD:PUBLISH
BEGIN:VEVENT
DTSTAMP:20260424T121323Z
UID:3ef4debb-d5fb-4bb1-b661-2beb01b677bb
DTSTART;VALUE=DATE:20150715
DTEND;VALUE=DATE:20150715
DESCRIPTION:Desert Downs BMX
LOCATION:8801 Railroad  El Paso TX 79924 USA
SUMMARY:Local Race Single
URL:/site/bmx_races/272311
END:VEVENT
END:VCALENDAR
