BEGIN:VCALENDAR
VERSION:2.0
PRODID:icalendar-ruby
CALSCALE:GREGORIAN
METHOD:PUBLISH
BEGIN:VEVENT
DTSTAMP:20260424T202438Z
UID:08a84ac3-89e3-409b-a487-9805f2103b1e
DTSTART;VALUE=DATE:20151107
DTEND;VALUE=DATE:20151107
DESCRIPTION:Virgin BMX
LOCATION:425 N. Kolob Rd  Virgin UT 84779 USA
SUMMARY:Local Race Single
URL:/site/bmx_races/271936
END:VEVENT
END:VCALENDAR
