BEGIN:VCALENDAR
VERSION:2.0
PRODID:icalendar-ruby
CALSCALE:GREGORIAN
METHOD:PUBLISH
BEGIN:VEVENT
DTSTAMP:20260425T223816Z
UID:46fe43cd-7281-4a9d-96ea-b7296314c774
DTSTART;VALUE=DATE:20150308
DTEND;VALUE=DATE:20150308
DESCRIPTION:Yuma BMX
LOCATION:3067 S Pacific Ave  Yuma AZ 85364 USA
SUMMARY:State Race Double
URL:/site/bmx_races/271337
END:VEVENT
END:VCALENDAR
