BEGIN:VCALENDAR
VERSION:2.0
PRODID:icalendar-ruby
CALSCALE:GREGORIAN
METHOD:PUBLISH
BEGIN:VEVENT
DTSTAMP:20260424T175226Z
UID:d23609ea-595f-492d-8139-6bfa263b36fd
DTSTART;VALUE=DATE:20150329
DTEND;VALUE=DATE:20150329
DESCRIPTION:EHT BMX
LOCATION:Veterans Memorial Park Ocean Heights Ave Egg Harbor Township NJ 08
 234 USA
SUMMARY:Local Race Single
URL:/site/bmx_races/271004
END:VEVENT
END:VCALENDAR
