BEGIN:VCALENDAR
VERSION:2.0
PRODID:icalendar-ruby
CALSCALE:GREGORIAN
METHOD:PUBLISH
BEGIN:VEVENT
DTSTAMP:20260424T154640Z
UID:b24f1bf3-838e-42b5-a735-6b70fbd50406
DTSTART;VALUE=DATE:20150517
DTEND;VALUE=DATE:20150517
DESCRIPTION:County Line BMX
LOCATION:8560 South Colorado Blvd  Centennial CO 80126 USA
SUMMARY:Local Race Single
URL:/site/bmx_races/269088
END:VEVENT
END:VCALENDAR
