BEGIN:VCALENDAR
VERSION:2.0
PRODID:icalendar-ruby
CALSCALE:GREGORIAN
METHOD:PUBLISH
BEGIN:VEVENT
DTSTAMP:20260424T190031Z
UID:73b2deab-a840-459e-a2c1-41e85349e16d
DTSTART;VALUE=DATE:20150816
DTEND;VALUE=DATE:20150816
DESCRIPTION:Cobb County BMX
LOCATION:3820 Macedonia Rd  Powder Springs GA 30127 USA
SUMMARY:Local Race Single
URL:/site/bmx_races/268725
END:VEVENT
END:VCALENDAR
