BEGIN:VCALENDAR
VERSION:2.0
PRODID:icalendar-ruby
CALSCALE:GREGORIAN
METHOD:PUBLISH
BEGIN:VEVENT
DTSTAMP:20260425T125406Z
UID:d7bcd0d1-9211-4e80-8afe-5c7b0c2351f8
DTSTART;VALUE=DATE:20151211
DTEND;VALUE=DATE:20151211
DESCRIPTION:Pearland BMX
LOCATION:5657 Morning Dove Ln  Alvin TX 77511 USA
SUMMARY:Local Race Single
URL:/site/bmx_races/268681
END:VEVENT
END:VCALENDAR
