BEGIN:VCALENDAR
VERSION:2.0
PRODID:icalendar-ruby
CALSCALE:GREGORIAN
METHOD:PUBLISH
BEGIN:VEVENT
DTSTAMP:20260425T174003Z
UID:eb267808-1aef-46cb-abba-b6ac982a092c
DTSTART;VALUE=DATE:20150605
DTEND;VALUE=DATE:20150605
DESCRIPTION:NWA BMX
LOCATION:801 Mc Clure Ave  Lowell AR 72745 USA
SUMMARY:Local Race Single
URL:/site/bmx_races/268111
END:VEVENT
END:VCALENDAR
