BEGIN:VCALENDAR
VERSION:2.0
PRODID:icalendar-ruby
CALSCALE:GREGORIAN
METHOD:PUBLISH
BEGIN:VEVENT
DTSTAMP:20260424T091922Z
UID:e7d3b3bc-7b78-479d-be5b-36ac2f8d8056
DTSTART;VALUE=DATE:20150904
DTEND;VALUE=DATE:20150904
DESCRIPTION:Black Mountain BMX
LOCATION:24024 N 11th St  Phoenix AZ 85024 USA
SUMMARY:Local Race Single
URL:/site/bmx_races/267582
END:VEVENT
END:VCALENDAR
