BEGIN:VCALENDAR
VERSION:2.0
PRODID:icalendar-ruby
CALSCALE:GREGORIAN
METHOD:PUBLISH
BEGIN:VEVENT
DTSTAMP:20260424T131345Z
UID:b2a603f5-058b-49f8-86d6-08c1bd612b54
DTSTART;VALUE=DATE:20150523
DTEND;VALUE=DATE:20150523
DESCRIPTION:Black Mountain BMX
LOCATION:24024 N 11th St  Phoenix AZ 85024 USA
SUMMARY:Local Race Single
URL:/site/bmx_races/267495
END:VEVENT
END:VCALENDAR
