BEGIN:VCALENDAR
VERSION:2.0
PRODID:icalendar-ruby
CALSCALE:GREGORIAN
METHOD:PUBLISH
BEGIN:VEVENT
DTSTAMP:20260426T040011Z
UID:e25687fd-5929-4054-b95d-e1ba846fe8c0
DTSTART;VALUE=DATE:20150214
DTEND;VALUE=DATE:20150214
DESCRIPTION:Black Mountain BMX
LOCATION:24024 N 11th St  Phoenix AZ 85024 USA
SUMMARY:Local Race Single
URL:/site/bmx_races/267412
END:VEVENT
END:VCALENDAR
