BEGIN:VCALENDAR
VERSION:2.0
PRODID:icalendar-ruby
CALSCALE:GREGORIAN
METHOD:PUBLISH
BEGIN:VEVENT
DTSTAMP:20260426T023915Z
UID:e975dbbe-a46d-4d3d-9e57-2273ce573355
DTSTART;VALUE=DATE:20150427
DTEND;VALUE=DATE:20150427
DESCRIPTION:Triple Creek BMX
LOCATION:12705 Balm Boyette Rd  Riverview FL 33579 USA
SUMMARY:Local Race Single
URL:/site/bmx_races/267034
END:VEVENT
END:VCALENDAR
