BEGIN:VCALENDAR
VERSION:2.0
PRODID:icalendar-ruby
CALSCALE:GREGORIAN
METHOD:PUBLISH
BEGIN:VEVENT
DTSTAMP:20260424T105916Z
UID:ec1d55dd-1950-4ef8-ae7b-73fe08d947ca
DTSTART;VALUE=DATE:20150309
DTEND;VALUE=DATE:20150309
DESCRIPTION:Ventura BMX Raceway
LOCATION:901 S. Kimball Road  Ventura CA 93004 USA
SUMMARY:Local Race Single
URL:/site/bmx_races/266757
END:VEVENT
END:VCALENDAR
