BEGIN:VCALENDAR
VERSION:2.0
PRODID:icalendar-ruby
CALSCALE:GREGORIAN
METHOD:PUBLISH
BEGIN:VEVENT
DTSTAMP:20260424T185810Z
UID:142ed1b4-99f7-4c77-b7bb-bf4370c5c0f5
DTSTART;VALUE=DATE:20150119
DTEND;VALUE=DATE:20150119
DESCRIPTION:Ventura BMX Raceway
LOCATION:901 S. Kimball Road  Ventura CA 93004 USA
SUMMARY:Local Race Single
URL:/site/bmx_races/266743
END:VEVENT
END:VCALENDAR
