BEGIN:VCALENDAR
VERSION:2.0
PRODID:icalendar-ruby
CALSCALE:GREGORIAN
METHOD:PUBLISH
BEGIN:VEVENT
DTSTAMP:20260424T160812Z
UID:0c719b9f-9797-469a-be01-73f1e3a85037
DTSTART;VALUE=DATE:20150228
DTEND;VALUE=DATE:20150228
DESCRIPTION:Gretna BMX Raceway
LOCATION:800 Gretna Blvd  Gretna LA 70053 USA
SUMMARY:Local Race Single
URL:/site/bmx_races/266606
END:VEVENT
END:VCALENDAR
