BEGIN:VCALENDAR
VERSION:2.0
PRODID:icalendar-ruby
CALSCALE:GREGORIAN
METHOD:PUBLISH
BEGIN:VEVENT
DTSTAMP:20260424T153615Z
UID:be8049f9-442e-4d89-9b1a-d493a563a351
DTSTART;VALUE=DATE:20150815
DTEND;VALUE=DATE:20150815
DESCRIPTION:Waterford Oaks BMX
LOCATION:1702 Scott Lake Rd  Waterford MI 48328 USA
SUMMARY:Local Race Single
URL:/site/bmx_races/265854
END:VEVENT
END:VCALENDAR
