BEGIN:VCALENDAR
VERSION:2.0
PRODID:icalendar-ruby
CALSCALE:GREGORIAN
METHOD:PUBLISH
BEGIN:VEVENT
DTSTAMP:20260424T184700Z
UID:3104fbbb-d531-49a7-bc55-f38ee797da43
DTSTART;VALUE=DATE:20150619
DTEND;VALUE=DATE:20150619
DESCRIPTION:Wolfe Creek BMX
LOCATION:22843 Creek Road  Chatham ON  CAN
SUMMARY:Race for Life Single
URL:/site/bmx_races/265525
END:VEVENT
END:VCALENDAR
