BEGIN:VCALENDAR
VERSION:2.0
PRODID:icalendar-ruby
CALSCALE:GREGORIAN
METHOD:PUBLISH
BEGIN:VEVENT
DTSTAMP:20260425T234531Z
UID:4d389413-ea5f-49b7-8f7e-d13b2d9c7d63
DTSTART;VALUE=DATE:20150320
DTEND;VALUE=DATE:20150320
DESCRIPTION:Tampa BMX Raceway\, Inc.
LOCATION:17302 Dale Mabry Hwy North  Lutz FL 33548 USA
SUMMARY:Local Race Single
URL:/site/bmx_races/265329
END:VEVENT
END:VCALENDAR
