BEGIN:VCALENDAR
VERSION:2.0
PRODID:icalendar-ruby
CALSCALE:GREGORIAN
METHOD:PUBLISH
BEGIN:VEVENT
DTSTAMP:20260424T095004Z
UID:4f23eb10-63d0-4bfc-bc5d-0c745bf11220
DTSTART;VALUE=DATE:20150509
DTEND;VALUE=DATE:20150509
DESCRIPTION:Woodward Park BMX
LOCATION:7775 N Friant Rd  Fresno CA 93720 USA
SUMMARY:State Race Double
URL:/site/bmx_races/264343
END:VEVENT
END:VCALENDAR
