BEGIN:VCALENDAR
VERSION:2.0
PRODID:icalendar-ruby
CALSCALE:GREGORIAN
METHOD:PUBLISH
BEGIN:VEVENT
DTSTAMP:20260425T125452Z
UID:60fa7b1d-4be2-460a-bfc5-55e08e82c4cb
DTSTART;VALUE=DATE:20150712
DTEND;VALUE=DATE:20150712
DESCRIPTION:Buffalo Creek BMX
LOCATION:1017 9th Street  Glencoe MN 55336 USA
SUMMARY:State Race Double
URL:/site/bmx_races/263898
END:VEVENT
END:VCALENDAR
