BEGIN:VCALENDAR
VERSION:2.0
PRODID:icalendar-ruby
CALSCALE:GREGORIAN
METHOD:PUBLISH
BEGIN:VEVENT
DTSTAMP:20260424T063228Z
UID:0fde5531-b836-4162-aea5-dac80ee83871
DTSTART;VALUE=DATE:20150815
DTEND;VALUE=DATE:20150815
DESCRIPTION:EHT BMX
LOCATION:Veterans Memorial Park Ocean Heights Ave Egg Harbor Township NJ 08
 234 USA
SUMMARY:State Race Triple
URL:/site/bmx_races/263836
END:VEVENT
END:VCALENDAR
