BEGIN:VCALENDAR
VERSION:2.0
PRODID:icalendar-ruby
CALSCALE:GREGORIAN
METHOD:PUBLISH
BEGIN:VEVENT
DTSTAMP:20260424T063218Z
UID:699a20b0-9aac-496f-8d4e-5019fbc43d4d
DTSTART;VALUE=DATE:20150614
DTEND;VALUE=DATE:20150614
DESCRIPTION:Gretna BMX Raceway
LOCATION:800 Gretna Blvd  Gretna LA 70053 USA
SUMMARY:State Race Double
URL:/site/bmx_races/263835
END:VEVENT
END:VCALENDAR
