BEGIN:VCALENDAR
VERSION:2.0
PRODID:icalendar-ruby
CALSCALE:GREGORIAN
METHOD:PUBLISH
BEGIN:VEVENT
DTSTAMP:20260424T215356Z
UID:71a8c7c5-a79d-4f7e-a4cc-239824224a3e
DTSTART;VALUE=DATE:20150724
DTEND;VALUE=DATE:20150724
DESCRIPTION:Blue Springs BMX
LOCATION:2715 Nw Park Drive  Blue Springs MO 64015 USA
SUMMARY:Local Race Single
URL:/site/bmx_races/263254
END:VEVENT
END:VCALENDAR
