BEGIN:VCALENDAR
VERSION:2.0
PRODID:icalendar-ruby
CALSCALE:GREGORIAN
METHOD:PUBLISH
BEGIN:VEVENT
DTSTAMP:20260424T202323Z
UID:bcaeb9cd-b525-430a-b0a7-737d14988c5b
DTSTART;VALUE=DATE:20150802
DTEND;VALUE=DATE:20150802
DESCRIPTION:Redwood Empire BMX
LOCATION:201 Vance Ave  Samoa CA 95564 USA
SUMMARY:State Race Double
URL:/site/bmx_races/263201
END:VEVENT
END:VCALENDAR
