BEGIN:VCALENDAR
VERSION:2.0
PRODID:icalendar-ruby
CALSCALE:GREGORIAN
METHOD:PUBLISH
BEGIN:VEVENT
DTSTAMP:20260424T190936Z
UID:e8a5c7ee-d772-4b54-be47-7d9903e715ed
DTSTART;VALUE=DATE:20150415
DTEND;VALUE=DATE:20150415
DESCRIPTION:Oak Creek BMX
LOCATION:648 Riverside Ave  Roseville CA 95678 USA
SUMMARY:Local Race Single
URL:/site/bmx_races/262691
END:VEVENT
END:VCALENDAR
