BEGIN:VCALENDAR
VERSION:2.0
PRODID:icalendar-ruby
CALSCALE:GREGORIAN
METHOD:PUBLISH
BEGIN:VEVENT
DTSTAMP:20260424T131248Z
UID:8ba89d65-0efa-4eb0-b270-f1b259a80f5c
DTSTART;VALUE=DATE:20151127
DTEND;VALUE=DATE:20151127
DESCRIPTION:Chandler BMX
LOCATION:298 S Mc Queen Rd  Chandler AZ 85225 USA
SUMMARY:Local Race Single
URL:/site/bmx_races/262625
END:VEVENT
END:VCALENDAR
