BEGIN:VCALENDAR
VERSION:2.0
PRODID:icalendar-ruby
CALSCALE:GREGORIAN
METHOD:PUBLISH
BEGIN:VEVENT
DTSTAMP:20260424T160821Z
UID:152f5087-08ac-4799-8269-1b5a2ad6cd30
DTSTART;VALUE=DATE:20151016
DTEND;VALUE=DATE:20151016
DESCRIPTION:Omaha BMX
LOCATION:11111 W Maple Rd  Omaha NE 68164 USA
SUMMARY:Warnicke Single
URL:/site/bmx_races/262222
END:VEVENT
END:VCALENDAR
