BEGIN:VCALENDAR
VERSION:2.0
PRODID:icalendar-ruby
CALSCALE:GREGORIAN
METHOD:PUBLISH
BEGIN:VEVENT
DTSTAMP:20260425T215221Z
UID:877077c2-f185-460e-a2ba-05dc16e05d90
DTSTART;VALUE=DATE:20150201
DTEND;VALUE=DATE:20150201
DESCRIPTION:Redwood Empire BMX
LOCATION:201 Vance Ave  Samoa CA 95564 USA
SUMMARY:Local Race Single
URL:/site/bmx_races/261945
END:VEVENT
END:VCALENDAR
