BEGIN:VCALENDAR
VERSION:2.0
PRODID:icalendar-ruby
CALSCALE:GREGORIAN
METHOD:PUBLISH
BEGIN:VEVENT
DTSTAMP:20260424T234214Z
UID:20a94a95-2c41-4ab1-bce5-102455e21af9
DTSTART;VALUE=DATE:20150702
DTEND;VALUE=DATE:20150702
DESCRIPTION:Bellflower BMX
LOCATION:9030 Somerset Blvd  Bellflower CA 90706 USA
SUMMARY:Local Race Single
URL:/site/bmx_races/261851
END:VEVENT
END:VCALENDAR
