BEGIN:VCALENDAR
VERSION:2.0
PRODID:icalendar-ruby
CALSCALE:GREGORIAN
METHOD:PUBLISH
BEGIN:VEVENT
DTSTAMP:20260424T233749Z
UID:613871b9-4373-4aa6-90fe-b55a6a3c5a93
DTSTART;VALUE=DATE:20150625
DTEND;VALUE=DATE:20150625
DESCRIPTION:Bellflower BMX
LOCATION:9030 Somerset Blvd  Bellflower CA 90706 USA
SUMMARY:Local Race Single
URL:/site/bmx_races/261848
END:VEVENT
END:VCALENDAR
