BEGIN:VCALENDAR
VERSION:2.0
PRODID:icalendar-ruby
CALSCALE:GREGORIAN
METHOD:PUBLISH
BEGIN:VEVENT
DTSTAMP:20260424T154524Z
UID:787e6eab-e172-486c-ad36-8d8c7f18d9d4
DTSTART;VALUE=DATE:20150723
DTEND;VALUE=DATE:20150723
DESCRIPTION:Waukegan BMX
LOCATION:2785 W Yorkhouse Rd  Waukegan IL 60085 USA
SUMMARY:Local Race Single
URL:/site/bmx_races/261733
END:VEVENT
END:VCALENDAR
