BEGIN:VCALENDAR
VERSION:2.0
PRODID:icalendar-ruby
CALSCALE:GREGORIAN
METHOD:PUBLISH
BEGIN:VEVENT
DTSTAMP:20260425T204031Z
UID:f369a384-c1a2-4f6f-b45f-5bb294427ed7
DTSTART;VALUE=DATE:20151004
DTEND;VALUE=DATE:20151004
DESCRIPTION:Columbia Basin BMX
LOCATION:2002 Snyder St  Richland WA 99354 USA
SUMMARY:Local Race Single
URL:/site/bmx_races/261222
END:VEVENT
END:VCALENDAR
