BEGIN:VCALENDAR
VERSION:2.0
PRODID:icalendar-ruby
CALSCALE:GREGORIAN
METHOD:PUBLISH
BEGIN:VEVENT
DTSTAMP:20260425T011624Z
UID:91780978-0a17-4308-9eb1-d775734489fe
DTSTART;VALUE=DATE:20151029
DTEND;VALUE=DATE:20151029
DESCRIPTION:Silver Dollar BMX
LOCATION:2352 Dr. Martin Luther King Jr. Parkway  Chico CA 95928 USA
SUMMARY:Local Race Single
URL:/site/bmx_races/261084
END:VEVENT
END:VCALENDAR
