BEGIN:VCALENDAR
VERSION:2.0
PRODID:icalendar-ruby
CALSCALE:GREGORIAN
METHOD:PUBLISH
BEGIN:VEVENT
DTSTAMP:20260424T141823Z
UID:c1c7fe34-ca66-499a-98a7-58fcb5142907
DTSTART;VALUE=DATE:20150331
DTEND;VALUE=DATE:20150331
DESCRIPTION:Imperial Valley BMX
LOCATION:1750 Drew Rd  El Centro CA 92243 USA
SUMMARY:Local Race Single
URL:/site/bmx_races/260939
END:VEVENT
END:VCALENDAR
