BEGIN:VCALENDAR
VERSION:2.0
PRODID:icalendar-ruby
CALSCALE:GREGORIAN
METHOD:PUBLISH
BEGIN:VEVENT
DTSTAMP:20260425T021615Z
UID:8e78fc98-02cb-4a67-ae6c-fedf2b0f0db6
DTSTART;VALUE=DATE:20150613
DTEND;VALUE=DATE:20150613
DESCRIPTION:Lakes Area BMX
LOCATION:10415 Town Hall Street  Brainerd MN 56401 USA
SUMMARY:Gold Cup Qualifier Triple
URL:/site/bmx_races/260731
END:VEVENT
END:VCALENDAR
