BEGIN:VCALENDAR
VERSION:2.0
PRODID:icalendar-ruby
CALSCALE:GREGORIAN
METHOD:PUBLISH
BEGIN:VEVENT
DTSTAMP:20260424T172237Z
UID:e7029d6f-d0f5-4e64-8cb4-97f6bfed5b88
DTSTART;VALUE=DATE:20150721
DTEND;VALUE=DATE:20150721
DESCRIPTION:Westmoreland BMX
LOCATION:200 Park Road  Apollo PA 15613 USA
SUMMARY:Local Race Single
URL:/site/bmx_races/260711
END:VEVENT
END:VCALENDAR
