BEGIN:VCALENDAR
VERSION:2.0
PRODID:icalendar-ruby
CALSCALE:GREGORIAN
METHOD:PUBLISH
BEGIN:VEVENT
DTSTAMP:20260425T215347Z
UID:2897849f-2672-42c0-853b-b667e3a0502a
DTSTART;VALUE=DATE:20150322
DTEND;VALUE=DATE:20150322
DESCRIPTION:Music City BMX Association
LOCATION:2901 Bell Road  Nashville TN 37217 USA
SUMMARY:Local Race Single
URL:/site/bmx_races/260400
END:VEVENT
END:VCALENDAR
