BEGIN:VCALENDAR
VERSION:2.0
PRODID:icalendar-ruby
CALSCALE:GREGORIAN
METHOD:PUBLISH
BEGIN:VEVENT
DTSTAMP:20260424T152511Z
UID:6949e6f9-5c92-4a0f-a537-91e9e6cebb86
DTSTART;VALUE=DATE:20150926
DTEND;VALUE=DATE:20150926
DESCRIPTION:Columbus BMX
LOCATION:876 Spears St.  Columbus IN 47201 USA
SUMMARY:Local Race Single
URL:/site/bmx_races/260269
END:VEVENT
END:VCALENDAR
