BEGIN:VCALENDAR
VERSION:2.0
PRODID:icalendar-ruby
CALSCALE:GREGORIAN
METHOD:PUBLISH
BEGIN:VEVENT
DTSTAMP:20260425T165347Z
UID:11290249-4a4b-4c0e-a77c-7ab5ce86e39b
DTSTART;VALUE=DATE:20151023
DTEND;VALUE=DATE:20151023
DESCRIPTION:Tucson BMX
LOCATION:9245 E Irvington  Tucson AZ 85730 USA
SUMMARY:Local Race Single
URL:/site/bmx_races/260127
END:VEVENT
END:VCALENDAR
