BEGIN:VCALENDAR
VERSION:2.0
PRODID:icalendar-ruby
CALSCALE:GREGORIAN
METHOD:PUBLISH
BEGIN:VEVENT
DTSTAMP:20260424T172952Z
UID:ba873fe5-7b8c-4faf-b8f6-5900ed5436c0
DTSTART;VALUE=DATE:20150619
DTEND;VALUE=DATE:20150619
DESCRIPTION:Tucson BMX
LOCATION:9245 E Irvington  Tucson AZ 85730 USA
SUMMARY:Local Race Single
URL:/site/bmx_races/260037
END:VEVENT
END:VCALENDAR
