BEGIN:VCALENDAR
VERSION:2.0
PRODID:icalendar-ruby
CALSCALE:GREGORIAN
METHOD:PUBLISH
BEGIN:VEVENT
DTSTAMP:20260424T172253Z
UID:828605ad-6992-4cf8-a106-3c7fb3b35ffe
DTSTART;VALUE=DATE:20141114
DTEND;VALUE=DATE:20141114
DESCRIPTION:Chandler BMX
LOCATION:298 S Mc Queen Rd  Chandler AZ 85225 USA
SUMMARY:Warnicke Double
URL:/site/bmx_races/259905
END:VEVENT
END:VCALENDAR
