BEGIN:VCALENDAR
VERSION:2.0
PRODID:icalendar-ruby
CALSCALE:GREGORIAN
METHOD:PUBLISH
BEGIN:VEVENT
DTSTAMP:20260424T184707Z
UID:345a4184-146b-4c72-b353-56f5fe07f4e8
DTSTART;VALUE=DATE:20150321
DTEND;VALUE=DATE:20150321
DESCRIPTION:Desoto BMX
LOCATION:Grimes Park 500 E. Centre Park Blvd Desoto TX 75115 USA
SUMMARY:Local Race Single
URL:/site/bmx_races/259611
END:VEVENT
END:VCALENDAR
