BEGIN:VCALENDAR
VERSION:2.0
PRODID:icalendar-ruby
CALSCALE:GREGORIAN
METHOD:PUBLISH
BEGIN:VEVENT
DTSTAMP:20260424T202358Z
UID:b46401c7-2d9b-4ea1-81ea-681f84b70570
DTSTART;VALUE=DATE:20150920
DTEND;VALUE=DATE:20150920
DESCRIPTION:Gallatin Valley BMX
LOCATION: 620 N 5th Ave  Bozeman MT 59715 USA
SUMMARY:Local Race Single
URL:/site/bmx_races/259540
END:VEVENT
END:VCALENDAR
