BEGIN:VCALENDAR
VERSION:2.0
PRODID:icalendar-ruby
CALSCALE:GREGORIAN
METHOD:PUBLISH
BEGIN:VEVENT
DTSTAMP:20260424T215456Z
UID:78777b51-584e-496b-aead-806b378eb0db
DTSTART;VALUE=DATE:20150315
DTEND;VALUE=DATE:20150315
DESCRIPTION:Cowtown BMX
LOCATION:447 Haltom Rd  Ft. Worth TX 76117 USA
SUMMARY:Local Race Single
URL:/site/bmx_races/259055
END:VEVENT
END:VCALENDAR
