BEGIN:VCALENDAR
VERSION:2.0
PRODID:icalendar-ruby
CALSCALE:GREGORIAN
METHOD:PUBLISH
BEGIN:VEVENT
DTSTAMP:20260425T204037Z
UID:56de6040-c379-499d-8dc7-9cd9d3a920a8
DTSTART;VALUE=DATE:20150127
DTEND;VALUE=DATE:20150127
DESCRIPTION:Okeeheelee BMX
LOCATION:8145 Forest Hill Blvd  West Palm Beach FL 33413 USA
SUMMARY:Local Race Single
URL:/site/bmx_races/258649
END:VEVENT
END:VCALENDAR
