BEGIN:VCALENDAR
VERSION:2.0
PRODID:icalendar-ruby
CALSCALE:GREGORIAN
METHOD:PUBLISH
BEGIN:VEVENT
DTSTAMP:20260424T143806Z
UID:94326440-081c-4a63-8eb1-be000f31108f
DTSTART;VALUE=DATE:20141001
DTEND;VALUE=DATE:20141001
DESCRIPTION:Desert Downs BMX
LOCATION:8801 Railroad  El Paso TX 79924 USA
SUMMARY:Standard Single
URL:/site/bmx_races/258480
END:VEVENT
END:VCALENDAR
